BEGIN:VCALENDAR
VERSION:2.0
PRODID:-//Alaska Sea Grant - ECPv6.15.20//NONSGML v1.0//EN
CALSCALE:GREGORIAN
METHOD:PUBLISH
X-WR-CALNAME:Alaska Sea Grant
X-ORIGINAL-URL:https://alaskaseagrant.org
X-WR-CALDESC:Events for Alaska Sea Grant
REFRESH-INTERVAL;VALUE=DURATION:PT1H
X-Robots-Tag:noindex
X-PUBLISHED-TTL:PT1H
BEGIN:VTIMEZONE
TZID:America/Anchorage
BEGIN:DAYLIGHT
TZOFFSETFROM:-0900
TZOFFSETTO:-0800
TZNAME:AKDT
DTSTART:20230312T110000
END:DAYLIGHT
BEGIN:STANDARD
TZOFFSETFROM:-0800
TZOFFSETTO:-0900
TZNAME:AKST
DTSTART:20231105T100000
END:STANDARD
BEGIN:DAYLIGHT
TZOFFSETFROM:-0900
TZOFFSETTO:-0800
TZNAME:AKDT
DTSTART:20240310T110000
END:DAYLIGHT
BEGIN:STANDARD
TZOFFSETFROM:-0800
TZOFFSETTO:-0900
TZNAME:AKST
DTSTART:20241103T100000
END:STANDARD
BEGIN:DAYLIGHT
TZOFFSETFROM:-0900
TZOFFSETTO:-0800
TZNAME:AKDT
DTSTART:20250309T110000
END:DAYLIGHT
BEGIN:STANDARD
TZOFFSETFROM:-0800
TZOFFSETTO:-0900
TZNAME:AKST
DTSTART:20251102T100000
END:STANDARD
END:VTIMEZONE
BEGIN:VEVENT
DTSTART;TZID=America/Anchorage:20241101T090000
DTEND;TZID=America/Anchorage:20241101T160000
DTSTAMP:20260425T035217
CREATED:20240725T193837Z
LAST-MODIFIED:20241023T013446Z
UID:16877-1730451600-1730476800@alaskaseagrant.org
SUMMARY:Seafood HACCP Segment 2 — November 2024
DESCRIPTION:  \nAlaska Sea Grant offers Seafood HACCP Segment 2 practical training via online video conferencing\, conducted at the specified time with a live instructor. \nThe class will cover the principles of HACCP and provide the tools and training to create a seafood HACCP plan. Students will need to register for and complete the Segment 1 training online prior to November 1\, 2024\, through the National Seafood HACCP Alliance for Training and Education. The Segment 1 training has a separate registration and fee. \nYou can register here for your Segment 2 training\, using the button below\, prior to completing Segment 1\, but be sure to complete the Segment 1 training before the date of this Segment 2 training. \nThis course meets the requirement for HACCP Segment 2. Participants will attend this HACCP training live\, using online video conferencing to complete the practical training session. The training will be conducted November 1\, 2024\, from 9 am to 4 pm. \nAll seafood processors in Alaska are required to have an approved Hazard Analysis Critical Control Point (HACCP) plan. This class prepares the participant to develop this plan. Class size is limited to 20 participants. A basic HACCP certificate issued by the Association of Food and Drug Officials is awarded upon completion of the class. \nThis workshop is free for Kodiak Island Borough residents\, made possible with funding from the Kodiak Island Borough. (Kodiak Island Borough residents use registration code KB24 during checkout.) \n\nOur online registration is temporarily unavailable. Please call our office at (907) 474-7086 or email Alaska Sea Grant to sign up. If you call and leave a message\, please specify the event you wish to sign up for\, and a return phone number to reach you. \n\n \nCourse instructor: Chris Sannito\, Seafood Technology Specialist\nAlaska Sea Grant Marine Advisory Program\nKodiak Seafood and Marine Science Center \n\n \n\nAlaska Sea Grant accommodation and code of conduct\nAlaska Sea Grant is committed to providing safe and welcoming environments for all who participate in activities\, meetings\, or events. Accommodation requests related to a disability should be made at least five business days in advance to sea.grant@alaska.edu. Participants and organizers of Alaska Sea Grant-sponsored activities are supported by the Alaska Sea Grant event code of conduct. \nShare this:\n				Share on Facebook (Opens in new window)\n				Facebook\n			\n				Share on X (Opens in new window)\n				X\n			\n				Share on LinkedIn (Opens in new window)\n				LinkedIn\n			\n				Email a link to a friend (Opens in new window)\n				Email\n			\n\n	Related
URL:https://alaskaseagrant.org/event/seafood-haccp-november-2024/
LOCATION:Zoom
CATEGORIES:Alaska Seafood School,online/distance delivery,seafood processing
ATTACH;FMTTYPE=image/jpeg:https://alaskaseagrant.org/wp-content/uploads/2024/07/CSannito-_2023__3059.jpeg
ORGANIZER;CN="Marc Solano":MAILTO:mcsolano@alaska.edu
END:VEVENT
END:VCALENDAR