BEGIN:VCALENDAR
VERSION:2.0
PRODID:-//Alaska Sea Grant - ECPv6.15.20//NONSGML v1.0//EN
CALSCALE:GREGORIAN
METHOD:PUBLISH
X-ORIGINAL-URL:https://alaskaseagrant.org
X-WR-CALDESC:Events for Alaska Sea Grant
REFRESH-INTERVAL;VALUE=DURATION:PT1H
X-Robots-Tag:noindex
X-PUBLISHED-TTL:PT1H
BEGIN:VTIMEZONE
TZID:America/Anchorage
BEGIN:DAYLIGHT
TZOFFSETFROM:-0900
TZOFFSETTO:-0800
TZNAME:AKDT
DTSTART:20220313T110000
END:DAYLIGHT
BEGIN:STANDARD
TZOFFSETFROM:-0800
TZOFFSETTO:-0900
TZNAME:AKST
DTSTART:20221106T100000
END:STANDARD
BEGIN:DAYLIGHT
TZOFFSETFROM:-0900
TZOFFSETTO:-0800
TZNAME:AKDT
DTSTART:20230312T110000
END:DAYLIGHT
BEGIN:STANDARD
TZOFFSETFROM:-0800
TZOFFSETTO:-0900
TZNAME:AKST
DTSTART:20231105T100000
END:STANDARD
BEGIN:DAYLIGHT
TZOFFSETFROM:-0900
TZOFFSETTO:-0800
TZNAME:AKDT
DTSTART:20240310T110000
END:DAYLIGHT
BEGIN:STANDARD
TZOFFSETFROM:-0800
TZOFFSETTO:-0900
TZNAME:AKST
DTSTART:20241103T100000
END:STANDARD
END:VTIMEZONE
BEGIN:VEVENT
DTSTART;TZID=America/Anchorage:20230330T100000
DTEND;TZID=America/Anchorage:20230330T110000
DTSTAMP:20260425T082308
CREATED:20230221T002559Z
LAST-MODIFIED:20230301T134604Z
UID:13808-1680170400-1680174000@alaskaseagrant.org
SUMMARY:Listening session in support of outdoor tourism
DESCRIPTION:  \nAlaska Sea Grant is expanding efforts to support naturalist and interpretive businesses\, organizations\, guides\, and communities involved in outdoor tourism. In order to focus those efforts into creating something truly practical and useful\, we need your input. \nTo help support this industry\, we are seeking your perspective on trends\, needs\, challenges\, and successes in providing high quality interpretive guided experiences to visitors. \nAlaska Sea Grant education specialist Leigh Lubin will host a listening session via Zoom. Leigh is a seasoned Alaskan guide and an Alaska certified science teacher utilizing Alaska Sea Grant resources to build programing and support models for the Alaskan naturalist and interpretive community. \nRegister now \nAlaska Sea Grant enhances the sustainable use and conservation of Alaska’s marine coastal and watershed resources through research\, education and outreach. Alaska Sea Grant produces popular field guides such as Guide to Marine Mammals of Alaska\, provides helpful programs and resources for Alaska business\, such as the FishBiz website\, Alaska Aquaculture Permitting Portal\, and the Alaska Young Fishermen’s Summit\, and helped found the Alaska Marine Safety Education Association (AMSEA). This listening session is to shape how Alaska Sea Grant can support your business and career.
URL:https://alaskaseagrant.org/event/outdoor-tourism-listening-session/
LOCATION:Online
CATEGORIES:tourism
ATTACH;FMTTYPE=image/jpeg:https://alaskaseagrant.org/wp-content/uploads/2023/02/valdez10-dmp-0886.jpg
ORGANIZER;CN="Leigh Lubin":MAILTO:leigh.lubin@alaska.edu
END:VEVENT
END:VCALENDAR