BEGIN:VCALENDAR
VERSION:2.0
PRODID:-//Alaska Sea Grant - ECPv6.15.20//NONSGML v1.0//EN
CALSCALE:GREGORIAN
METHOD:PUBLISH
X-ORIGINAL-URL:https://alaskaseagrant.org
X-WR-CALDESC:Events for Alaska Sea Grant
REFRESH-INTERVAL;VALUE=DURATION:PT1H
X-Robots-Tag:noindex
X-PUBLISHED-TTL:PT1H
BEGIN:VTIMEZONE
TZID:America/Anchorage
BEGIN:DAYLIGHT
TZOFFSETFROM:-0900
TZOFFSETTO:-0800
TZNAME:AKDT
DTSTART:20240310T110000
END:DAYLIGHT
BEGIN:STANDARD
TZOFFSETFROM:-0800
TZOFFSETTO:-0900
TZNAME:AKST
DTSTART:20241103T100000
END:STANDARD
BEGIN:DAYLIGHT
TZOFFSETFROM:-0900
TZOFFSETTO:-0800
TZNAME:AKDT
DTSTART:20250309T110000
END:DAYLIGHT
BEGIN:STANDARD
TZOFFSETFROM:-0800
TZOFFSETTO:-0900
TZNAME:AKST
DTSTART:20251102T100000
END:STANDARD
BEGIN:DAYLIGHT
TZOFFSETFROM:-0900
TZOFFSETTO:-0800
TZNAME:AKDT
DTSTART:20260308T110000
END:DAYLIGHT
BEGIN:STANDARD
TZOFFSETFROM:-0800
TZOFFSETTO:-0900
TZNAME:AKST
DTSTART:20261101T100000
END:STANDARD
END:VTIMEZONE
BEGIN:VEVENT
DTSTART;TZID=America/Anchorage:20251020T173000
DTEND;TZID=America/Anchorage:20251029T200000
DTSTAMP:20260423T084042
CREATED:20250816T175803Z
LAST-MODIFIED:20250908T224621Z
UID:19562-1760981400-1761768000@alaskaseagrant.org
SUMMARY:Introduction to Starting and Operating a Seafood Direct Marketing Business - October 2025
DESCRIPTION:Workshop dates:October 20\, 22\, 24\, 27 and 29\, 20255:30 pm – 8:00 pm (Alaska time)Online via Zoom \n\n\n\nThis is a five-session online workshop for those considering or currently involved in direct marketing seafood in Alaska. Topics include regulations\, marketing\, business planning\, and quality. Learn how to start or improve an Alaska direct marketing operation from seafood marketing and quality specialists\, regulatory officials\, and experienced direct marketers. \n\n\n\nThe interactive class will be held online via Zoom on the evenings of October 20\, 22\, 24\, 27 and 29. Each 2.5-hour session will begin at 5:30 pm\, and will include lecture and discussion. \n\n\n\nBefore the first session\, login instructions will be sent. Prior to each session\, registrants will receive class materials. The class will conclude on October 29 with an open discussion with invited direct marketers. \n\n\n\nThis workshop is free for Kodiak Island Borough residents\, made possible with funding from the Kodiak Island Borough. (Kodiak Island Borough residents use registration code DMOCT2025 during checkout.) \n\n\n\n\n\n\n\n\n\n\n\n\n\n\nRegister now\n\n\n\n\n\n\n\n\n\n\n\n\n\n\n\n\n\n\nAlaska Sea Grant accommodation and code of conduct\n\n\n\nAlaska Sea Grant is committed to providing safe and welcoming environments for all who participate in activities\, meetings\, or events. Accommodation requests related to a disability should be made at least five business days in advance to sea.grant@alaska.edu. Participants and organizers of Alaska Sea Grant-sponsored activities are supported by the Alaska Sea Grant event code of conduct.
URL:https://alaskaseagrant.org/event/introduction-to-starting-and-operating-a-seafood-direct-marketing-business-october-2025/
LOCATION:Zoom
CATEGORIES:online/distance delivery,seafood marketing
ATTACH;FMTTYPE=image/jpeg:https://alaskaseagrant.org/wp-content/uploads/2025/08/Valdez-2021-DJM_6246-sq.jpeg
ORGANIZER;CN="Gabe Dunham":MAILTO:gabe.dunham@alaska.edu
END:VEVENT
END:VCALENDAR