BEGIN:VCALENDAR
VERSION:2.0
PRODID:-//Alaska Sea Grant - ECPv6.15.20//NONSGML v1.0//EN
CALSCALE:GREGORIAN
METHOD:PUBLISH
X-WR-CALNAME:Alaska Sea Grant
X-ORIGINAL-URL:https://alaskaseagrant.org
X-WR-CALDESC:Events for Alaska Sea Grant
REFRESH-INTERVAL;VALUE=DURATION:PT1H
X-Robots-Tag:noindex
X-PUBLISHED-TTL:PT1H
BEGIN:VTIMEZONE
TZID:America/Anchorage
BEGIN:DAYLIGHT
TZOFFSETFROM:-0900
TZOFFSETTO:-0800
TZNAME:AKDT
DTSTART:20160313T110000
END:DAYLIGHT
BEGIN:STANDARD
TZOFFSETFROM:-0800
TZOFFSETTO:-0900
TZNAME:AKST
DTSTART:20161106T100000
END:STANDARD
BEGIN:DAYLIGHT
TZOFFSETFROM:-0900
TZOFFSETTO:-0800
TZNAME:AKDT
DTSTART:20170312T110000
END:DAYLIGHT
BEGIN:STANDARD
TZOFFSETFROM:-0800
TZOFFSETTO:-0900
TZNAME:AKST
DTSTART:20171105T100000
END:STANDARD
BEGIN:DAYLIGHT
TZOFFSETFROM:-0900
TZOFFSETTO:-0800
TZNAME:AKDT
DTSTART:20180311T110000
END:DAYLIGHT
BEGIN:STANDARD
TZOFFSETFROM:-0800
TZOFFSETTO:-0900
TZNAME:AKST
DTSTART:20181104T100000
END:STANDARD
BEGIN:DAYLIGHT
TZOFFSETFROM:-0900
TZOFFSETTO:-0800
TZNAME:AKDT
DTSTART:20190310T110000
END:DAYLIGHT
BEGIN:STANDARD
TZOFFSETFROM:-0800
TZOFFSETTO:-0900
TZNAME:AKST
DTSTART:20191103T100000
END:STANDARD
BEGIN:DAYLIGHT
TZOFFSETFROM:-0900
TZOFFSETTO:-0800
TZNAME:AKDT
DTSTART:20200308T110000
END:DAYLIGHT
BEGIN:STANDARD
TZOFFSETFROM:-0800
TZOFFSETTO:-0900
TZNAME:AKST
DTSTART:20201101T100000
END:STANDARD
BEGIN:DAYLIGHT
TZOFFSETFROM:-0900
TZOFFSETTO:-0800
TZNAME:AKDT
DTSTART:20210314T110000
END:DAYLIGHT
BEGIN:STANDARD
TZOFFSETFROM:-0800
TZOFFSETTO:-0900
TZNAME:AKST
DTSTART:20211107T100000
END:STANDARD
BEGIN:DAYLIGHT
TZOFFSETFROM:-0900
TZOFFSETTO:-0800
TZNAME:AKDT
DTSTART:20220313T110000
END:DAYLIGHT
BEGIN:STANDARD
TZOFFSETFROM:-0800
TZOFFSETTO:-0900
TZNAME:AKST
DTSTART:20221106T100000
END:STANDARD
END:VTIMEZONE
BEGIN:VEVENT
DTSTART;TZID=America/Anchorage:20210219T090000
DTEND;TZID=America/Anchorage:20210219T160000
DTSTAMP:20260419T082421
CREATED:20210114T185551Z
LAST-MODIFIED:20210209T230137Z
UID:7731-1613725200-1613750400@alaskaseagrant.org
SUMMARY:Seafood HACCP Segment 2 — February 2021
DESCRIPTION:Alaska Sea Grant is now offering Seafood HACCP Segment 2 practical training session via online video conferencing\, conducted at the specified time with a live instructor. \nThe class will cover the principles of HACCP and provide the tools and training to create a seafood HACCP plan. Students will need to register for and complete the Segment 1 training online prior to February 19 through the National Seafood HACCP Alliance for Training and Education. The Segment 1 training has a separate registration and fee. \nYou can register here for your Segment 2 training using the button below\, prior to completing Segment 1\, just be sure to complete the Segment 1 training before February 19. \nThis course meets the requirement for HACCP Segment 2. Participants will attend this HACCP training live\, using online video conferencing to complete the practical training session. The training will be conducted February 19\, 2021\, from 9 am to 4 pm. \nAll seafood processors in Alaska are required to have an approved Hazard Analysis Critical Control Point (HACCP) plan. This class prepares the participant to develop this plan. A basic HACCP certificate issued by the Association of Food and Drug Officials is awarded upon completion of the class. \n  \nRegister for HACCP \n  \n \n 
URL:https://alaskaseagrant.org/event/seafood-haccp-segment-2-february-2021/
LOCATION:Online
CATEGORIES:Alaska Seafood School,online/distance delivery,seafood processing
ATTACH;FMTTYPE=image/jpeg:https://alaskaseagrant.org/wp-content/uploads/2019/02/Pollock3-asg-byers.jpg
ORGANIZER;CN="Chris Sannito":MAILTO:csannito@alaska.edu
END:VEVENT
BEGIN:VEVENT
DTSTART;TZID=America/Anchorage:20210202T160000
DTEND;TZID=America/Anchorage:20210202T180000
DTSTAMP:20260419T082421
CREATED:20201215T235310Z
LAST-MODIFIED:20210203T204541Z
UID:7653-1612281600-1612288800@alaskaseagrant.org
SUMMARY:Seaweed Farm Start-up Training Program
DESCRIPTION:Alaska Sea Grant and partners are excited to announce the 2021 Seaweed Farm Start-up Training Program to be held for Alaska residents interested in starting their own seaweed farm in Alaska. In 2020\, this program was held in Kodiak\, Ketchikan\, and Sitka as part of Phase 2 of the Alaska Mariculture Initiative. In February of 2021\, this program will be held again for a new cohort of participants\, and will be conducted online via Zoom due to COVID-19 health and safety mandates. This virtual format will allow more participants to access the training program\, from 48 participants in 2020 to potentially more than 100 in 2021. Registration for the training program will be completed in two parts: \n\nAll interested Alaska residents are invited to register for a 2-hour webinar to be held at 4:00 pm on February 2\, 2021. Registration closes February 1\, 2021.\nWebinar attendees will then be eligible to register for a series of in-depth\, virtual\, technical\, multi-day workshops over one week\, beginning on February 22. Each session will be 2–3 hours.\n\nThe goal of this program is to provide the tools and training necessary for Alaskans to start their own seaweed farm. The program is targeted towards commercial fishermen\, Alaska Natives\, and fishing communities. The program will be completed in four sections: \n\nonline webinar on February 2\, 2021\nseries of virtual technical multi-day workshops over one-week beginning on February 22\, 2021\none-on-one mentoring for high-performing participants\npotential in-person hands-on field training in Spring/Summer 2021 (COVID-19 permitting).\n\nParticipants will be required to attend the February 2nd webinar in order to register for the series of technical workshops. Although there is no expected cap on the number of participants for the webinar\, participation for the series of technical multi-day workshops is expected to be capped at 150 participants. Registration will be first-come first-serve for eligible participants. Registration for the series of technical multi-day workshops will be open from February 3 to February 10. Materials\, final workshop dates/times\, and workshop information will be distributed to registered participants prior to both the webinar and technical workshops. \nTopics covered will include identification of seaweed species\, lifecycles of seaweed\, the hatchery process\, site evaluation\, use of the Mariculture Map\, farm gear and equipment\, business plan development\, farm loans available\, state lease application process\, gear deployment\, seeding and harvesting techniques\, quality handling\, and safety considerations. Information and instruction will be provided by GreenWave\, Alaska Sea Grant\, Alaska Department of Natural Resources\, Alaska Department of Fish and Game\, Blue Evolution\, OceansAlaska\, Alaska Longline Fishermen’s Association\, Alaska Fisheries Development Foundation Inc.\, Alaska Marine Safety Education Association\, seaweed farmers\, and others. \nRegister now to learn more about what it takes to become a seaweed farmer in Alaska. Please visit the Alaska Fisheries Development Foundation website for more information about the training program. \nRegister online
URL:https://alaskaseagrant.org/event/seaweed-farm-start-ups-training-program/
LOCATION:Online
CATEGORIES:online/distance delivery
ATTACH;FMTTYPE=image/jpeg:https://alaskaseagrant.org/wp-content/uploads/2020/12/2006-Oyster-farm-ASG-program-assessment-1792-Dave-Partee.jpg
ORGANIZER;CN="Melissa Good":MAILTO:melissa.good@alaska.edu
END:VEVENT
BEGIN:VEVENT
DTSTART;TZID=America/Anchorage:20201202T160000
DTEND;TZID=America/Anchorage:20201202T170000
DTSTAMP:20260419T082421
CREATED:20201124T020635Z
LAST-MODIFIED:20201128T013156Z
UID:7584-1606924800-1606928400@alaskaseagrant.org
SUMMARY:Alaska Aquaculture Opportunity Areas information session
DESCRIPTION:Please join us for an information session to learn more about designating Aquaculture Opportunity Areas (AOAs)\, and how you can help identify potential areas within Alaska that will become a focus for commercial aquaculture development. Registration for the information session is required. \nWith the help of stakeholder input\, NOAA will select 10 geographic regions nationwide. Once selected\, NOAA will use a combination of spatial mapping\, scientific review\, and additional public engagement to identify areas within the geographic regions for siting AOAs that are the most environmentally\, socially\, and economically appropriate for commercial aquaculture. This rigorous and collaborative analysis will identify areas where aquaculture projects are most likely to thrive. \nStakeholder input will be an important part of the selection process. This information session will prepare you to better understand and influence which areas may receive future AOA designation. We’ll share information about the AOA process\, benefits\, and concerns\, and take questions. \nIf you’re interested in reviewing NOAA’s AOA information prior to this information session\, visit Aquaculture Opportunity Areas | NOAA Fisheries. We look forward to seeing you. \nRegister now \n\nWhat is an AOA?\nAOAs are called for in the May 2020 Executive Order on Promoting American Seafood Competitiveness and Economic Growth. They are defined as geographic areas (state waters\, federal waters\, or a combination of both) that have been evaluated for their potential for sustainable commercial aquaculture. Selected areas are expected to support multiple aquaculture farm sites of varying types including finfish\, shellfish\, and/or seaweed. In Alaska\, finfish farming is banned in state waters per Alaska Statute 16.40.210. Thus\, AOAs for state waters would apply to aquaculture operations for seaweed\, shellfish\, and/or other pertinent species. \nThis information meeting may be recorded and shared for informational purposes\, and may incidentally include participant names\, faces\, comments\, and questions. \nPlease email Dawn Montano to be added to the aquaculture announcements list.
URL:https://alaskaseagrant.org/event/alaska-aquaculture-opportunity-areas-information-session/
LOCATION:Online
CATEGORIES:online/distance delivery
ATTACH;FMTTYPE=image/jpeg:https://alaskaseagrant.org/wp-content/uploads/2020/11/Tending-oyster-nets-Kachemak-Bay-Dave-Partee-2007-1628.jpg
END:VEVENT
BEGIN:VEVENT
DTSTART;TZID=America/Anchorage:20201030T090000
DTEND;TZID=America/Anchorage:20201030T150000
DTSTAMP:20260419T082421
CREATED:20200929T222004Z
LAST-MODIFIED:20201218T204924Z
UID:7403-1604048400-1604070000@alaskaseagrant.org
SUMMARY:Smoked Seafood School — October 2020
DESCRIPTION:This online workshop is for anyone interested in smoking and processing fish\, including fish–smoking enthusiasts\, small smokehouse operators\, fishermen interested in direct marketing their fish\, and commercial operators. \nSeafood scientists at the Kodiak Seafood and Marine Science Center will cover the principles of fish smoking\, modern smoke oven operation\, safety of smoked products\, brining\, cold smoking\, hot smoking\, salmon jerky production\, and preparation of fish sausage. \nSmoked Seafood School 2020 will take place online\, and will include discussion and live presentations from representatives of food processing equipment manufacturers. \nThis workshop is a partnership between Alaska Sea Grant and the Manufacturing Alaska Extension Partnership\, part of the National Institute of Standards and Technology national network. \n \nRegister for the course
URL:https://alaskaseagrant.org/event/smoked-seafood-school-2020/
LOCATION:Online
CATEGORIES:Alaska Seafood School,online/distance delivery,seafood processing
ATTACH;FMTTYPE=image/jpeg:https://alaskaseagrant.org/wp-content/uploads/2018/09/Smoked-Seafood.jpg
ORGANIZER;CN="Chris Sannito":MAILTO:csannito@alaska.edu
END:VEVENT
BEGIN:VEVENT
DTSTART;TZID=America/Anchorage:20201015T090000
DTEND;TZID=America/Anchorage:20201015T160000
DTSTAMP:20260419T082422
CREATED:20200903T034848Z
LAST-MODIFIED:20201218T204936Z
UID:7305-1602752400-1602777600@alaskaseagrant.org
SUMMARY:Seafood HACCP Segment 2 — October 2020
DESCRIPTION:Alaska Sea Grant is now offering Seafood HACCP Segment 2 practical training session via online video conferencing\, conducted at the specified time with a live instructor. \nThe class will cover the principles of HACCP and provide the tools and training to create a seafood HACCP plan. Students will need to register for and complete the Segment 1 training online prior to October 15 through the National Seafood HACCP Alliance for Training and Education. The Segment 1 training has a separate registration and fee. \nYou can register here for your Segment 2 training using the button below\, prior to completing Segment 1\, just be sure to complete the Segment 1 training before October 15. \nThis course meets the requirement for HACCP Segment 2. Participants will attend this HACCP training live\, using online video conferencing to complete the practical training session. The training will be conducted October 15\, 2020\, from 9 am to 4 pm. \nAll seafood processors in Alaska are required to have an approved Hazard Analysis Critical Control Point (HACCP) plan. This class prepares the participant to develop this plan. A basic HACCP certificate issued by the Association of Food and Drug Officials is awarded upon completion of the class. \nRegister for HACCP
URL:https://alaskaseagrant.org/event/seafood-haccp-segment-2-oct-2020/
LOCATION:Online
CATEGORIES:Alaska Seafood School,online/distance delivery,seafood processing
ATTACH;FMTTYPE=image/jpeg:https://alaskaseagrant.org/wp-content/uploads/2019/02/Chris-Sannito-34-sq.jpg
ORGANIZER;CN="Chris Sannito":MAILTO:csannito@alaska.edu
END:VEVENT
BEGIN:VEVENT
DTSTART;VALUE=DATE:20200928
DTEND;VALUE=DATE:20201002
DTSTAMP:20260419T082422
CREATED:20200922T234612Z
LAST-MODIFIED:20200923T192142Z
UID:7356-1601251200-1601596799@alaskaseagrant.org
SUMMARY:Emergency Preparedness for Alaskans
DESCRIPTION:September is National Preparedness Month with a focus on promoting family and community disaster planning. Learn from a team of experts what to do before\, during and after an emergency. Sign up once for this FREE event\, hosted by the Cooperative Extension Service at the University of Alaska Fairbanks\, and attend any or all of the classes in the series via Zoom. \nAfter registering\, you will receive a confirmation email containing information about joining the meeting.
URL:https://news.uaf.edu/emergency-preparedness-series-begins-sept-28/
LOCATION:Online
CATEGORIES:coastal resilience,online/distance delivery
ATTACH;FMTTYPE=image/jpeg:https://alaskaseagrant.org/wp-content/uploads/2018/01/Tsunami-NOAA.jpg
END:VEVENT
BEGIN:VEVENT
DTSTART;VALUE=DATE:20200813
DTEND;VALUE=DATE:20200815
DTSTAMP:20260419T082422
CREATED:20200807T012030Z
LAST-MODIFIED:20200807T224035Z
UID:7237-1597276800-1597449599@alaskaseagrant.org
SUMMARY:Bristol Bay marine safety training presentations
DESCRIPTION:The Bristol Bay Economic Development Corporation (BBEDC)\, Alaska Marine Safety Education Association (AMSEA)\, and Alaska Sea Grant are offering a two-day online safety training for resident or part-time Bristol Bay fishermen and watercraft users. \nPart one of this AMSEA water safety workshop\, Thursday\, August 13\, will include lessons on the 7 steps to survival\, survival kits\, effects of alcohol on boating safety\, and cold water drowning prevention. \nPart two\, Friday\, August 14\, includes lessons on cold water survival skills\, personal flotation devices (PFDs)\, immersion suits\, and hypothermia prevention and treatment. \nThis free training will be conducted by Zoom video conference\, 10 a.m.–noon each day\, and pre-registration is required. You can attend one or both 2-hour sessions. \nFor BBEDC program recipients\, this training qualifies toward BBEDC training requirements. \nRegister for the training \nThis event is sponsored by the Bristol Bay Economic Development Corporation.
URL:https://alaskaseagrant.org/event/bb-safety/
LOCATION:Online
CATEGORIES:marine safety,online/distance delivery
ATTACH;FMTTYPE=image/jpeg:https://alaskaseagrant.org/wp-content/uploads/2020/04/crew-class-new-stuyahok-survival-suits-gabe-dunham.jpg
ORGANIZER;CN="Gabe Dunham":MAILTO:gabe.dunham@alaska.edu
END:VEVENT
BEGIN:VEVENT
DTSTART;TZID=America/Anchorage:20200529T090000
DTEND;TZID=America/Anchorage:20200529T160000
DTSTAMP:20260419T082422
CREATED:20200515T003049Z
LAST-MODIFIED:20201218T205054Z
UID:6977-1590742800-1590768000@alaskaseagrant.org
SUMMARY:Seafood HACCP Segment 2 — May 2020
DESCRIPTION:Alaska Sea Grant is now offering Seafood HACCP Segment 2 practical training session via online video conferencing\, conducted at the specified time with a live instructor. \nThe class will cover the principles of HACCP and provide the tools and training to create a seafood HACCP plan. Students will need to register for and complete the Segment 1 training online prior to May 29 through the National Seafood HACCP Alliance for Training and Education. The Segment 1 training has a separate registration and fee. \nYou can register here for your Segment 2 training using the button below\, prior to completing Segment 1\, just be sure to complete the Segment 1 training before May 29. \nThis course meets the requirement for HACCP Segment 2. Participants will attend this HACCP training live\, using online video conferencing to complete the practical training session. The training will be conducted May 29\, 2020\, from 9 am to 4 pm. \nAll seafood processors in Alaska are required to have an approved Hazard Analysis Critical Control Point (HACCP) plan. This class prepares the participant to develop this plan. A basic HACCP certificate issued by the Association of Food and Drug Officials is awarded upon completion of the class. \nRegister for HACCP
URL:https://alaskaseagrant.org/event/seafood-haccp-segment-2-may-2020/
LOCATION:Online
CATEGORIES:Alaska Seafood School,online/distance delivery,seafood processing
ATTACH;FMTTYPE=image/jpeg:https://alaskaseagrant.org/wp-content/uploads/2019/02/Chris-Sannito-34-sq.jpg
ORGANIZER;CN="Chris Sannito":MAILTO:csannito@alaska.edu
END:VEVENT
BEGIN:VEVENT
DTSTART;TZID=America/Anchorage:20200527T190000
DTEND;TZID=America/Anchorage:20200527T203000
DTSTAMP:20260419T082422
CREATED:20200523T143327Z
LAST-MODIFIED:20200523T143327Z
UID:6988-1590606000-1590611400@alaskaseagrant.org
SUMMARY:Petersburg Science Series presentation “A plastic waste crossroads: How can we address the problem?”
DESCRIPTION:Online for residents of Petersburg\, Alaska. \nThe Petersburg Science Series presents a talk and conversation via online videoconferencing hosted by the Reduce Plastic Use Petersburg group. The talk will cover the extent of the problem in Southeast Alaska\, what the Reduce Plastic Use group has done to address it locally\, and what we are planning to do in the future. Following the talk\, we’ll host a community discussion to further refine the problem in our community and brainstorm ideas for next steps. \nAt the time of the event\, join the talk via computer or portable device. \nTo join by telephone (audio only)\nCall (669) 900-6833 and enter meeting code 99405373089\n-or- one-tap mobile +16699006833\,\,99405373089#
URL:https://alaskaseagrant.org/event/petersburg-science-series-presentation-a-plastic-waste-crossroads-how-can-we-address-the-problem/
LOCATION:Online
CATEGORIES:online/distance delivery
ATTACH;FMTTYPE=image/jpeg:https://alaskaseagrant.org/wp-content/uploads/2020/05/marine-debris-Gina-Esposito-USFS.jpg
ORGANIZER;CN="Sunny Rice":MAILTO:sunny.rice@alaska.edu
END:VEVENT
BEGIN:VEVENT
DTSTART;TZID=America/Anchorage:20200416T190000
DTEND;TZID=America/Anchorage:20200416T200000
DTSTAMP:20260419T082422
CREATED:20200413T164315Z
LAST-MODIFIED:20200413T164315Z
UID:6802-1587063600-1587067200@alaskaseagrant.org
SUMMARY:Petersburg Science Series: Shrimp and Crab in Southeast Alaska’s Changing Waters
DESCRIPTION:Sherry Tamone of the University of Alaska Southeast will talk about her research into spot prawns and various crab species in Southeast Alaska\, with a focus on the impact of ocean acidification on shrimp and molt timing in Dungeness crab. \nThis installment of the Petersburg Science Series will be hosted through remote conferencing only\, to maintain appropriate physical distancing. \nAt the time of the event\, join the talk via computer or portable device. \nTo join by telephone (audio only)\nCall (669) 900-6833 and enter meeting code 983650757\n-or- one-tap mobile +16699006833\,\,983650757#
URL:https://alaskaseagrant.org/event/shrimp-and-crab-in-southeast-alaskas-changing-waters/
LOCATION:Online
CATEGORIES:online/distance delivery
ATTACH;FMTTYPE=image/jpeg:https://alaskaseagrant.org/wp-content/uploads/2019/03/3-Dr-Tamone-collecting-adult-spot-shrimp-on-fishery-survey-Sherry-Tamone.jpg
ORGANIZER;CN="Sunny Rice":MAILTO:sunny.rice@alaska.edu
END:VEVENT
BEGIN:VEVENT
DTSTART;TZID=America/Anchorage:20200407T120000
DTEND;TZID=America/Anchorage:20200407T130000
DTSTAMP:20260419T082422
CREATED:20200402T005123Z
LAST-MODIFIED:20200429T233035Z
UID:6764-1586260800-1586264400@alaskaseagrant.org
SUMMARY:Socially Distant and Locally Sourced: Selling Your Seafood Dockside
DESCRIPTION:The recording of the webinar is now available\, below. \n\nAre you considering alternative markets for your commercial catch in this period of social distancing? Increased interest in buying foods directly from the producer and other market changes caused by COVID-19 may present new opportunities for fishermen. \nJoin seafood and marketing experts from Alaska Sea Grant for a free lunchtime webinar for commercial fishermen\, covering the basics of one methods of reaching consumers directly: dockside sales. Simpler than some other forms of direct marketing\, dockside sales still require know-how and planning. \nWe’ll look at permits and what they cover\, marketing tips\, seafood quality and safety\, and issues specific to our current pandemic. \nAlaska Sea Grant published the first version of the Alaska Direct Marketing Manual in 1997 and has been supporting and informing direct marketers ever since. Join us for an online presentation and discussion with our experts from around the state.
URL:https://alaskaseagrant.org/event/selling-your-seafood-dockside/
LOCATION:Online
CATEGORIES:FishBiz,online/distance delivery,seafood marketing
ATTACH;FMTTYPE=image/jpeg:https://alaskaseagrant.org/wp-content/uploads/2020/04/pat06partee-1987.jpg
ORGANIZER;CN="Sunny Rice":MAILTO:sunny.rice@alaska.edu
END:VEVENT
BEGIN:VEVENT
DTSTART;TZID=America/Anchorage:20191205T173000
DTEND;TZID=America/Anchorage:20191205T180000
DTSTAMP:20260419T082422
CREATED:20191127T001446Z
LAST-MODIFIED:20191127T001446Z
UID:6480-1575567000-1575568800@alaskaseagrant.org
SUMMARY:How visualizing data on Cook Inlet wild resource harvests can improve oil spill planning and response
DESCRIPTION:Alaska Sea Grant’s Davin Holen will summarize a project that integrated a socio-economic data layer called the Wild Resource Harvest and Use by Cook Inlet Communities into the Cook Inlet Response Tool (CIRT) and discuss how similar information could be used in other communities impacted by oil\, gas\, and other natural resource and industrial activities. \nThis talk is part of the Prince William Sound Regional Citizens’ Advisory Council’s Science Night 2019\, looking at the latest research that affects the safe transportation of oil through Prince William Sound. For more information\, visit the Science Night 2019 website. \nFor those unable to attend in person\, Science Night 2019 will be broadcast via Zoom videoconference. For more information about using Zoom\, visit the Zoom Help Center. \nPresentations will be posted to the PWSRCAC YouTube channel for those unable to attend or watch live.
URL:https://alaskaseagrant.org/event/how-visualizing-data-on-cook-inlet-wild-resource-harvests-can-improve-oil-spill-planning-and-response/
LOCATION:Embassy Suites Hotel Anchorage\, 600 E. Benson Blvd\, Anchorage\, AK\, United States
CATEGORIES:coastal resilience,online/distance delivery
ATTACH;FMTTYPE=image/jpeg:https://alaskaseagrant.org/wp-content/uploads/2019/06/davin-holen-by-jr-ancheta-84sq.jpg
ORGANIZER;CN="Davin Holen":MAILTO:dlholen@alaska.edu
END:VEVENT
BEGIN:VEVENT
DTSTART;TZID=America/Anchorage:20190911T153000
DTEND;TZID=America/Anchorage:20190911T163000
DTSTAMP:20260419T082422
CREATED:20190911T001615Z
LAST-MODIFIED:20190911T001655Z
UID:6211-1568215800-1568219400@alaskaseagrant.org
SUMMARY:Overview of the Alaska Sea Grant Marine Advisory Program
DESCRIPTION:Connect online via Zoom: https://alaska.zoom.us/j/930073479 \nThe next Fisheries and Ocean Sciences seminar will be Wed. Sept. 11\, 3:30 pm in 201 O’Neill Bldg (Fairbanks) and will be broadcast to 101 Lena Pt (Juneau) and 219 Pioneer in Homer. Additional rooms can be connected upon request\, and you can connect via the Zoom link above. \nThe featured speaker will be Sunny Rice\, Marine Advisory Program Agent in Petersburg\, who will present “Overview of the Alaska Sea Grant Marine Advisory Program.” \nPetersburg Marine Advisory Program agent Sunny Rice will introduce the faculty that make up CFOS’ Alaska Sea Grant Marine Advisory Program and provide an overview of their work in coastal communities in Alaska. We’ll answer the questions “what is the difference between outreach and extension?” and “what can the marine advisory program do for me as a student or faculty member?”.
URL:https://alaskaseagrant.org/event/overview-of-the-alaska-sea-grant-marine-advisory-program/
LOCATION:Online
CATEGORIES:online/distance delivery
ORGANIZER;CN="Sunny Rice":MAILTO:sunny.rice@alaska.edu
END:VEVENT
BEGIN:VEVENT
DTSTART;VALUE=DATE:20181022
DTEND;VALUE=DATE:20181106
DTSTAMP:20260419T082422
CREATED:20180912T221851Z
LAST-MODIFIED:20200402T234412Z
UID:4381-1540166400-1541462399@alaskaseagrant.org
SUMMARY:Introduction to Starting and Operating a Seafood Direct Marketing Business 2018
DESCRIPTION:Online distance delivery \nThis introductory course presents content on the development and management of a successful seafood direct marketing business from inception to operation. The practical application of business planning\, obtaining financing\, permitting\, feasibility analysis\, marketing\, and operational aspects of a seafood direct marketing business will be introduced. \nThe course will be delivered online\, primarily by lectures and class discussions\, supported by four homework assignments that are individualized to assist you in developing an action plan for your business. \nAt the end of the course\, the student will understand and be able to use the appropriate managerial and decision-making tools that are needed to start and run a seafood direct marketing business. \nThe course is designed for commercial fishermen with little or no experience in direct marketing\, who want to onboard or custom process and direct market their catch in various ways. The course will be taught in five sessions\, October 22\, 24\, 29; November 1\, 5\, 5:30 pm–8:00 pm. \n\nView course outline\n\n  \nRegister Now
URL:https://alaskaseagrant.org/event/introduction-to-starting-and-operating-a-seafood-direct-marketing-business-2018/
LOCATION:Online
CATEGORIES:FishBiz,online/distance delivery,seafood marketing
ATTACH;FMTTYPE=image/jpeg:https://alaskaseagrant.org/wp-content/uploads/2017/12/pws-purse-seining-mercy.jpg
ORGANIZER;CN="Quentin Fong":MAILTO:qsfong@alaska.edu
END:VEVENT
BEGIN:VEVENT
DTSTART;VALUE=DATE:20171023
DTEND;VALUE=DATE:20171107
DTSTAMP:20260419T082422
CREATED:20171004T215332Z
LAST-MODIFIED:20220908T182404Z
UID:115-1508716800-1510012799@alaskaseagrant.org
SUMMARY:Introduction to Starting and Operating a Seafood Direct Marketing Business 2017
DESCRIPTION:Online distance delivery \nThis introductory course presents content on the development and management of a successful seafood direct marketing business from inception to operation. The practical application of business planning\, obtaining financing\, permitting\, feasibility analysis\, marketing\, and operational aspects of a seafood direct marketing business will be introduced. \nThe course will be delivered primarily by lectures and in-class discussions\, supported by four homework assignments that are individualized to assist you in developing an action plan for your business. \nAt the end of the course\, the student will understand and be able to use the appropriate managerial and decision-making tools that are needed to start and run a seafood direct marketing business. \nThe course is designed for commercial fishermen with little or no experience in direct marketing\, who want to onboard or custom process and direct market their catch in various ways. The course will be taught in five sessions: Oct. 23\, 25\, 30\, Nov. 1\, 6 from 5:30 to 8:00 pm. \nCourse Syllabus (draft) \nRegister
URL:https://alaskaseagrant.org/event/introduction-to-starting-and-operating-a-seafood-direct-marketing-business/
LOCATION:Online
CATEGORIES:online/distance delivery,seafood marketing
ATTACH;FMTTYPE=image/jpeg:https://alaskaseagrant.org/wp-content/uploads/2017/10/salmon-filet-photo-square.jpg
ORGANIZER;CN="Quentin Fong":MAILTO:qsfong@alaska.edu
END:VEVENT
END:VCALENDAR