BEGIN:VCALENDAR
VERSION:2.0
PRODID:-//Alaska Sea Grant - ECPv6.15.20//NONSGML v1.0//EN
CALSCALE:GREGORIAN
METHOD:PUBLISH
X-ORIGINAL-URL:https://alaskaseagrant.org
X-WR-CALDESC:Events for Alaska Sea Grant
REFRESH-INTERVAL;VALUE=DURATION:PT1H
X-Robots-Tag:noindex
X-PUBLISHED-TTL:PT1H
BEGIN:VTIMEZONE
TZID:America/Anchorage
BEGIN:DAYLIGHT
TZOFFSETFROM:-0900
TZOFFSETTO:-0800
TZNAME:AKDT
DTSTART:20200308T110000
END:DAYLIGHT
BEGIN:STANDARD
TZOFFSETFROM:-0800
TZOFFSETTO:-0900
TZNAME:AKST
DTSTART:20201101T100000
END:STANDARD
BEGIN:DAYLIGHT
TZOFFSETFROM:-0900
TZOFFSETTO:-0800
TZNAME:AKDT
DTSTART:20210314T110000
END:DAYLIGHT
BEGIN:STANDARD
TZOFFSETFROM:-0800
TZOFFSETTO:-0900
TZNAME:AKST
DTSTART:20211107T100000
END:STANDARD
BEGIN:DAYLIGHT
TZOFFSETFROM:-0900
TZOFFSETTO:-0800
TZNAME:AKDT
DTSTART:20220313T110000
END:DAYLIGHT
BEGIN:STANDARD
TZOFFSETFROM:-0800
TZOFFSETTO:-0900
TZNAME:AKST
DTSTART:20221106T100000
END:STANDARD
END:VTIMEZONE
BEGIN:VEVENT
DTSTART;VALUE=DATE:20210324
DTEND;VALUE=DATE:20210326
DTSTAMP:20260423T013235
CREATED:20210322T222046Z
LAST-MODIFIED:20210323T162736Z
UID:7733-1616544000-1616716799@alaskaseagrant.org
SUMMARY:Better Process Control School — March 2021
DESCRIPTION:Thank you for your interest in the Better Process Control School. At this time\, we are postponing this class until we are able to meet safely in person. To be added to the waitlist\, please fill out the BPCS waitlist form. When a date and location is determined\, you will be sent an email for early registration.  \nThis two-day class teaches principles of thermal processing\, equipment requirements\, container closure evaluation\, and record keeping for glass jars and cans. It is designed for retort operators\, quality assurance technicians\, and home canners\, and will be useful for personnel in plants that pack and thermally process low acid foods and acidified foods in hermetically sealed containers. \nThe course addresses both flexible pouch and traditional can retort operations\, and includes hands-on training with thermal processing equipment. \nThis class satisfies FDA requirements. Attendees will receive a certificate on successful completion. \n  \n  \n \n 
URL:https://alaskaseagrant.org/event/better-process-control-school-march-2021/
LOCATION:Alaska
CATEGORIES:Alaska Seafood School,seafood processing
ATTACH;FMTTYPE=image/jpeg:https://alaskaseagrant.org/wp-content/uploads/2019/09/salmon-cans-Himmelbloom-sq.jpg
ORGANIZER;CN="Chris Sannito":MAILTO:csannito@alaska.edu
END:VEVENT
END:VCALENDAR